Workbook

Sheet Background data
B1: BACKGROUND DATA
B2: Accommodation type | C2: Occupation rate | D2: Water saving per resident (lpppd) | E2: Water saving (litres per dwelling)
B3: Flat | C3: 1.75 | D3: 27 | E3: =27*C3 -> 47.25
B4: House | C4: 2.4 | D4: 27 | E4: =27*C4 -> 64.8
B6: Wastewater Treatment Works
B7: Values given at the operating at 90% capacity - in accordance with the Natural England nutrient neutrality calculator
B8: Wastewater Treatment Works | C8: Phosphorus permit pre-2030 | D8: Nitrogen value pre-2030 | E8: Phosphorus permit post-2030 | F8: Nitrogen permit post-2030
B9: Ashford | C9: =0.5*0.9 -> 0.45 | D9: 5 | E9: =0.9*0.25 -> 0.225 | F9: =0.9*10 -> 9
B10: Brook | C10: 0 | D10: 0 | E10: 0 | F10: 0
B11: Charing | C11: =0.5*0.9 -> 0.45 | D11: 5 | E11: =0.9*0.25 -> 0.225 | F11: =0.9*10 -> 9
B12: Chartham | C12: 0 | D12: 0 | E12: =0.9*0.25 -> 0.225 | F12: =0.9*10 -> 9
B13: Chilham | C13: 0 | D13: 0 | E13: 0 | F13: 0
B14: Lenham | C14: =0.5*0.9 -> 0.45 | D14: 5 | E14: =0.9*0.25 -> 0.225 | F14: =0.9*10 -> 9
B15: N/A | C15: 0 | D15: 0 | E15: 0 | F15: 0
B16: Sellindge | C16: =0.5*0.9 -> 0.45 | D16: 5 | E16: =0.9*0.25 -> 0.225 | F16: =0.9*10 -> 9
B17: Westwell | C17: 0 | D17: 0 | E17: 0 | F17: 0
B18: Wye | C18: 0 | D18: 0 | E18: =0.9*0.25 -> 0.225 | F18: =0.9*10 -> 9

Sheet Mitigation - Retrofitting
A2: MITIGATION GENERATED
J3: Mitigation generated Pre-2030 | L3: Mitigation generated Post-2030
A4: Property Address | B4: Postcode | C4: Date Installation Completed | D4: House/Flat | E4: Water savings | F4: Wastewater Treatment Works | G4: Date S106 secured | H4: S106 reference number | I4: Has the mitigation been secured? | J4: Phosphorus load (kg TP/yr) | K4: Nitrogen load (kg TN/yr) | L4: Phosphorus load (kg TP/yr) | M4: Nitrogen load (kg TN/yr)
A5: 6 Regents Court, Regents Place, Ashford, TN23 1JF | B5: TN23 1JF | C5: 45412 | D5: Flat | E5: =VLOOKUP(D5,'Background data'!B$2:E$5,4,FALSE) -> 47.25 | F5: Ashford | G5: 45770 | H5: DS54-0917-03-F-CAP | I5: =IF(G5="","Not secured","Secured") -> Secured | J5: =IF($I5="Secured",(E5*(VLOOKUP(F5,'Background data'!B$8:D$18,2,FALSE))*(365.25*1*10^-6)),0) -> 0.0077661281 | K5: =IF($I5="Secured",(E5*(VLOOKUP(F5,'Background data'!B$8:D$18,3,FALSE))*(365.25*1*10^-6)),0) -> 0.086290312 | L5: =IF(I5="Secured",(E5*(VLOOKUP(F5,'Background data'!B$8:G$18,4,FALSE))*(365.25*1*10^-6)),0) -> 0.0038830641 | M5: =IF(I5="Secured",(E5*(VLOOKUP(F5,'Background data'!B$8:H$18,5,FALSE))*(365.25*1*10^-6)),0) -> 0.15532256
A6: 4 Marlowe Road, Ashford, Kent, TN23 1JR | B6: TN23 1JR | C6: 45412 | D6: House | E6: =VLOOKUP(D6,'Background data'!B$2:E$5,4,FALSE) -> 64.8 | F6: Ashford | G6: 45770 | H6: DS54-0917-03-A-CAP | I6: =IF(G6="","Not secured","Secured") -> Secured | J6: =IF($I6="Secured",(E6*(VLOOKUP(F6,'Background data'!B$8:D$18,2,FALSE))*(365.25*1*10^-6)),0) -> 0.01065069 | K6: =IF($I6="Secured",(E6*(VLOOKUP(F6,'Background data'!B$8:D$18,3,FALSE))*(365.25*1*10^-6)),0) -> 0.118341 | L6: =IF(I6="Secured",(E6*(VLOOKUP(F6,'Background data'!B$8:G$18,4,FALSE))*(365.25*1*10^-6)),0) -> 0.005325345 | M6: =IF(I6="Secured",(E6*(VLOOKUP(F6,'Background data'!B$8:H$18,5,FALSE))*(365.25*1*10^-6)),0) -> 0.2130138
A7: 15 Norwood Gardens, Ashford, Kent, TN23 1JS | B7: TN23 1JS | C7: 45407 | D7: House | E7: =VLOOKUP(D7,'Background data'!B$2:E$5,4,FALSE) -> 64.8 | F7: Ashford | G7: 45770 | H7: DS54-0917-03-A-CAP | I7: =IF(G7="","Not secured","Secured") -> Secured | J7: =IF($I7="Secured",(E7*(VLOOKUP(F7,'Background data'!B$8:D$18,2,FALSE))*(365.25*1*10^-6)),0) -> 0.01065069 | K7: =IF($I7="Secured",(E7*(VLOOKUP(F7,'Background data'!B$8:D$18,3,FALSE))*(365.25*1*10^-6)),0) -> 0.118341 | L7: =IF(I7="Secured",(E7*(VLOOKUP(F7,'Background data'!B$8:G$18,4,FALSE))*(365.25*1*10^-6)),0) -> 0.005325345 | M7: =IF(I7="Secured",(E7*(VLOOKUP(F7,'Background data'!B$8:H$18,5,FALSE))*(365.25*1*10^-6)),0) -> 0.2130138
A8: 1 Milton Road, Ashford, Kent, TN23 1JT | B8: TN23 1JT | C8: 45421 | D8: House | E8: =VLOOKUP(D8,'Background data'!B$2:E$5,4,FALSE) -> 64.8 | F8: Ashford | G8: 45770 | H8: DS54-0917-03-A-CAP | I8: =IF(G8="","Not secured","Secured") -> Secured | J8: =IF($I8="Secured",(E8*(VLOOKUP(F8,'Background data'!B$8:D$18,2,FALSE))*(365.25*1*10^-6)),0) -> 0.01065069 | K8: =IF($I8="Secured",(E8*(VLOOKUP(F8,'Background data'!B$8:D$18,3,FALSE))*(365.25*1*10^-6)),0) -> 0.118341 | L8: =IF(I8="Secured",(E8*(VLOOKUP(F8,'Background data'!B$8:G$18,4,FALSE))*(365.25*1*10^-6)),0) -> 0.005325345 | M8: =IF(I8="Secured",(E8*(VLOOKUP(F8,'Background data'!B$8:H$18,5,FALSE))*(365.25*1*10^-6)),0) -> 0.2130138
A9: 5 Milton Road, Ashford, Kent, TN23 1JT | B9: TN23 1JT | C9: 45421 | D9: House | E9: =VLOOKUP(D9,'Background data'!B$2:E$5,4,FALSE) -> 64.8 | F9: Ashford | G9: 45770 | H9: DS54-0917-03-A-CAP | I9: =IF(G9="","Not secured","Secured") -> Secured | J9: =IF($I9="Secured",(E9*(VLOOKUP(F9,'Background data'!B$8:D$18,2,FALSE))*(365.25*1*10^-6)),0) -> 0.01065069 | K9: =IF($I9="Secured",(E9*(VLOOKUP(F9,'Background data'!B$8:D$18,3,FALSE))*(365.25*1*10^-6)),0) -> 0.118341 | L9: =IF(I9="Secured",(E9*(VLOOKUP(F9,'Background data'!B$8:G$18,4,FALSE))*(365.25*1*10^-6)),0) -> 0.005325345 | M9: =IF(I9="Secured",(E9*(VLOOKUP(F9,'Background data'!B$8:H$18,5,FALSE))*(365.25*1*10^-6)),0) -> 0.2130138
A10: 10 Engineers Court, Barrow Hill, Ashford, TN23 1NZ | B10: TN23 1NZ | C10: 45422 | D10: Flat | E10: =VLOOKUP(D10,'Background data'!B$2:E$5,4,FALSE) -> 47.25 | F10: Ashford | G10: 45770 | H10: DS54-0917-03-F-CAP | I10: =IF(G10="","Not secured","Secured") -> Secured | J10: =IF($I10="Secured",(E10*(VLOOKUP(F10,'Background data'!B$8:D$18,2,FALSE))*(365.25*1*10^-6)),0) -> 0.0077661281 | K10: =IF($I10="Secured",(E10*(VLOOKUP(F10,'Background data'!B$8:D$18,3,FALSE))*(365.25*1*10^-6)),0) -> 0.086290312 | L10: =IF(I10="Secured",(E10*(VLOOKUP(F10,'Background data'!B$8:G$18,4,FALSE))*(365.25*1*10^-6)),0) -> 0.0038830641 | M10: =IF(I10="Secured",(E10*(VLOOKUP(F10,'Background data'!B$8:H$18,5,FALSE))*(365.25*1*10^-6)),0) -> 0.15532256
A11: 10 Hillcrest, Great Chart, Ashford, TN23 3AZ | B11: TN23 3AZ | C11: 45427 | D11: Flat | E11: =VLOOKUP(D11,'Background data'!B$2:E$5,4,FALSE) -> 47.25 | F11: Ashford | G11: 45770 | H11: DS54-0917-03-F-CAP | I11: =IF(G11="","Not secured","Secured") -> Secured | J11: =IF($I11="Secured",(E11*(VLOOKUP(F11,'Background data'!B$8:D$18,2,FALSE))*(365.25*1*10^-6)),0) -> 0.0077661281 | K11: =IF($I11="Secured",(E11*(VLOOKUP(F11,'Background data'!B$8:D$18,3,FALSE))*(365.25*1*10^-6)),0) -> 0.086290312 | L11: =IF(I11="Secured",(E11*(VLOOKUP(F11,'Background data'!B$8:G$18,4,FALSE))*(365.25*1*10^-6)),0) -> 0.0038830641 | M11: =IF(I11="Secured",(E11*(VLOOKUP(F11,'Background data'!B$8:H$18,5,FALSE))*(365.25*1*10^-6)),0) -> 0.15532256
A12: 12 Hillcrest, Great Chart, Ashford, TN23 3AZ | B12: TN23 3AZ | C12: 45408 | D12: Flat | E12: =VLOOKUP(D12,'Background data'!B$2:E$5,4,FALSE) -> 47.25 | F12: Ashford | G12: 45770 | H12: DS54-0917-03-F-CAP | I12: =IF(G12="","Not secured","Secured") -> Secured | J12: =IF($I12="Secured",(E12*(VLOOKUP(F12,'Background data'!B$8:D$18,2,FALSE))*(365.25*1*10^-6)),0) -> 0.0077661281 | K12: =IF($I12="Secured",(E12*(VLOOKUP(F12,'Background data'!B$8:D$18,3,FALSE))*(365.25*1*10^-6)),0) -> 0.086290312 | L12: =IF(I12="Secured",(E12*(VLOOKUP(F12,'Background data'!B$8:G$18,4,FALSE))*(365.25*1*10^-6)),0) -> 0.0038830641 | M12: =IF(I12="Secured",(E12*(VLOOKUP(F12,'Background data'!B$8:H$18,5,FALSE))*(365.25*1*10^-6)),0) -> 0.15532256
A13: 13 Hillcrest, Great Chart, Ashford, TN23 3AZ | B13: TN23 3AZ | C13: 45408 | D13: Flat | E13: =VLOOKUP(D13,'Background data'!B$2:E$5,4,FALSE) -> 47.25 | F13: Ashford | G13: 45770 | H13: DS54-0917-03-F-CAP | I13: =IF(G13="","Not secured","Secured") -> Secured | J13: =IF($I13="Secured",(E13*(VLOOKUP(F13,'Background data'!B$8:D$18,2,FALSE))*(365.25*1*10^-6)),0) -> 0.0077661281 | K13: =IF($I13="Secured",(E13*(VLOOKUP(F13,'Background data'!B$8:D$18,3,FALSE))*(365.25*1*10^-6)),0) -> 0.086290312 | L13: =IF(I13="Secured",(E13*(VLOOKUP(F13,'Background data'!B$8:G$18,4,FALSE))*(365.25*1*10^-6)),0) -> 0.0038830641 | M13: =IF(I13="Secured",(E13*(VLOOKUP(F13,'Background data'!B$8:H$18,5,FALSE))*(365.25*1*10^-6)),0) -> 0.15532256
A14: 14 Hillcrest, Great Chart, Ashford, TN23 3AZ | B14: TN23 3AZ | C14: 45408 | D14: Flat | E14: =VLOOKUP(D14,'Background data'!B$2:E$5,4,FALSE) -> 47.25 | F14: Ashford | G14: 45770 | H14: DS54-0917-03-F-CAP | I14: =IF(G14="","Not secured","Secured") -> Secured | J14: =IF($I14="Secured",(E14*(VLOOKUP(F14,'Background data'!B$8:D$18,2,FALSE))*(365.25*1*10^-6)),0) -> 0.0077661281 | K14: =IF($I14="Secured",(E14*(VLOOKUP(F14,'Background data'!B$8:D$18,3,FALSE))*(365.25*1*10^-6)),0) -> 0.086290312 | L14: =IF(I14="Secured",(E14*(VLOOKUP(F14,'Background data'!B$8:G$18,4,FALSE))*(365.25*1*10^-6)),0) -> 0.0038830641 | M14: =IF(I14="Secured",(E14*(VLOOKUP(F14,'Background data'!B$8:H$18,5,FALSE))*(365.25*1*10^-6)),0) -> 0.15532256
A15: 15 Hillcrest, Great Chart, Ashford, TN23 3AZ | B15: TN23 3AZ | C15: 45408 | D15: Flat | E15: =VLOOKUP(D15,'Background data'!B$2:E$5,4,FALSE) -> 47.25 | F15: Ashford | G15: 45770 | H15: DS54-0917-03-F-CAP | I15: =IF(G15="","Not secured","Secured") -> Secured | J15: =IF($I15="Secured",(E15*(VLOOKUP(F15,'Background data'!B$8:D$18,2,FALSE))*(365.25*1*10^-6)),0) -> 0.0077661281 | K15: =IF($I15="Secured",(E15*(VLOOKUP(F15,'Background data'!B$8:D$18,3,FALSE))*(365.25*1*10^-6)),0) -> 0.086290312 | L15: =IF(I15="Secured",(E15*(VLOOKUP(F15,'Background data'!B$8:G$18,4,FALSE))*(365.25*1*10^-6)),0) -> 0.0038830641 | M15: =IF(I15="Secured",(E15*(VLOOKUP(F15,'Background data'!B$8:H$18,5,FALSE))*(365.25*1*10^-6)),0) -> 0.15532256
A16: 10 Singleton Road, Great Chart, Ashford, TN23 3BB | B16: TN23 3BB | C16: 45421 | D16: House | E16: =VLOOKUP(D16,'Background data'!B$2:E$5,4,FALSE) -> 64.8 | F16: Ashford | G16: 45770 | H16: DS54-0917-03-A-CAP | I16: =IF(G16="","Not secured","Secured") -> Secured | J16: =IF($I16="Secured",(E16*(VLOOKUP(F16,'Background data'!B$8:D$18,2,FALSE))*(365.25*1*10^-6)),0) -> 0.01065069 | K16: =IF($I16="Secured",(E16*(VLOOKUP(F16,'Background data'!B$8:D$18,3,FALSE))*(365.25*1*10^-6)),0) -> 0.118341 | L16: =IF(I16="Secured",(E16*(VLOOKUP(F16,'Background data'!B$8:G$18,4,FALSE))*(365.25*1*10^-6)),0) -> 0.005325345 | M16: =IF(I16="Secured",(E16*(VLOOKUP(F16,'Background data'!B$8:H$18,5,FALSE))*(365.25*1*10^-6)),0) -> 0.2130138
... A1468: 16 Bannister Bungalows, The Street, Little Chart, TN27 0QF | B1468: TN27 0QF | C1468: 45471 | D1468: House | E1468: =VLOOKUP(D1468,'Background data'!B$2:E$5,4,FALSE) -> 64.8 | F1468: Ashford | G1468: 45770 | H1468: DS54-0917-02-A-CAP | I1468: =IF(G1468="","Not secured","Secured") -> Secured | J1468: =IF($I1468="Secured",(E1468*(VLOOKUP(F1468,'Background data'!B$8:D$18,2,FALSE))*(365.25*1*10^-6)),0) -> 0.01065069 | K1468: =IF($I1468="Secured",(E1468*(VLOOKUP(F1468,'Background data'!B$8:D$18,3,FALSE))*(365.25*1*10^-6)),0) -> 0.118341 | L1468: =IF(I1468="Secured",(E1468*(VLOOKUP(F1468,'Background data'!B$8:G$18,4,FALSE))*(365.25*1*10^-6)),0) -> 0.005325345 | M1468: =IF(I1468="Secured",(E1468*(VLOOKUP(F1468,'Background data'!B$8:H$18,5,FALSE))*(365.25*1*10^-6)),0) -> 0.2130138
E1469: =SUBTOTAL(109,E5:E1468) -> 86425.65 | J1469: =SUBTOTAL(9,J5:J1468) -> 13.609141 | K1469: =SUBTOTAL(9,K5:K1468) -> 151.21268 | L1469: =SUBTOTAL(9,L5:L1468) -> 7.1025679 | M1469: =SUBTOTAL(9,M5:M1468) -> 284.10272

Sheet Mitigation - Totals
A2: TOTAL MITIGATION
A3: Mitigation type | B3: Mitigation source | C3: Mitigation generated Pre-2030 | E3: Mitigation generated Post-2030
C4: Phosphorus load (kg TP/yr) | D4: Nitrogen load (kg TN/yr) | E4: Phosphorus load (kg TP/yr) | F4: Nitrogen load (kg TP/yr)
A5: Retrofitting | B5: Retrofitting (gross) | C5: ='Mitigation - Retrofitting'!J1469 -> 13.609141 | D5: ='Mitigation - Retrofitting'!K1469 -> 151.21268 | E5: ='Mitigation - Retrofitting'!L1469 -> 7.1025679 | F5: ='Mitigation - Retrofitting'!M1469 -> 284.10272
B6: Retrofitting including 5% contigency buffer | C6: =C5*(1-0.05) -> 12.928684 | D6: =D5*(1-0.05) -> 143.65204 | E6: =E5*(1-0.05) -> 6.7474396 | F6: =F5*(1-0.05) -> 269.89758
A8: Credits generated | C8: =C7+C6 -> 12.928684 | D8: =D7+D6 -> 143.65204 | E8: =E7+E6 -> 6.7474396 | F8: =F7+F6 -> 269.89758

Sheet Planning applications
A2: NUTRIENT CREDITS
A3: Planning application | B3: Address | C3: Description | D3: Credits requested Pre-2030 | F3: Credits requested Post-2030 | H3: Date nutrient load confirmed as accurate | I3: Credits allocated Pre-2030 | K3: Credits allocated Post-2030 | M3: Date credits issued
D4: Phosphorus load (kg TP/yr) | E4: Nitrogen load (kg TN/yr) | F4: Phosphorus load (kg TP/yr) | G4: Nitrogen load (kg TN/yr) | I4: Phosphorus load (kg TP/yr) | J4: Nitrogen load (kg TN/yr) | K4: Phosphorus load (kg TP/yr) | L4: Nitrogen load (kg TP/yr) | N4: Nutrient Credit Certificate | O4: Date of planning permission | P4: Return of credits
A5: 21/00750/AS | B5: 55 Mabledon Avenue, Ashford, Kent, TN24 8BN | C5: Proposed two and three storey residential development on former light industrial site, comprising 12no. two and three bedroom townhouses and 8no. two bedroom apartments, and associated parking and landscaping. | D5: 0.33 | E5: 10.3 | F5: 0.27 | G5: 5.75 | H5: 45692 | I5: 0.33 | J5: 10.3 | K5: 0.27 | L5: 5.75 | M5: 45796 | N5: 2025_01_NNCredits | O5: 45814
A6: 20/00711/AS | B6: Swanton House, Elwick Road, Ashford | C6: Demolition of existing building and erection of two buildings comprising 34 apartments with associated access, parking and landscaping. | D6: 1.53 | E6: 86.54 | F6: 0.83 | G6: 30.21 | H6: 45692
C25: TOTAL | D25: =SUBTOTAL(9,D5:D24) -> 1.86 | E25: =SUBTOTAL(9,E5:E24) -> 96.84 | F25: =SUBTOTAL(9,F5:F24) -> 1.1 | G25: =SUBTOTAL(9,G5:G24) -> 35.96 | I25: =SUBTOTAL(9,I5:I24) -> 0.33 | J25: =SUBTOTAL(9,J5:J24) -> 10.3 | K25: =SUBTOTAL(9,K5:K24) -> 0.27 | L25: =SUBTOTAL(9,L5:L24) -> 5.75
C26: Today's Date | D26: =TODAY() -> 45834
C27: WwTW Upgrades | D27: 47574

Sheet Credits - Totals
A2: TOTAL CREDITS
A3: Category | B3: Pre-2030 | D3: Post-2030
B4: Phosphorus load (kg TP/yr) | C4: Nitrogen load (kg TN/yr) | D4: Phosphorus load (kg TP/yr) | E4: Nitrogen load (kg TP/yr)
A5: Credits generated | B5: ='Mitigation - Totals'!C8 -> 12.928684 | C5: ='Mitigation - Totals'!D8 -> 143.65204 | D5: ='Mitigation - Totals'!E8 -> 6.7474396 | E5: ='Mitigation - Totals'!F8 -> 269.89758
A6: Credits requested (but not allocated/secured) | B6: ='Planning applications'!D25 -> 1.86 | C6: ='Planning applications'!E25 -> 96.84 | D6: ='Planning applications'!F25 -> 1.1 | E6: ='Planning applications'!G25 -> 35.96
A7: Credits allocated | B7: ='Planning applications'!I25 -> 0.33 | C7: ='Planning applications'!J25 -> 10.3 | D7: ='Planning applications'!K25 -> 0.27 | E7: ='Planning applications'!L25 -> 5.75
A8: Available (unused) credits | B8: =B5-(B6+B7) -> 10.738684 | C8: =C5-(C6+C7) -> 36.512044 | D8: =D5-(D6+D7) -> 5.3774396 | E8: =E5-(E6+E7) -> 228.18758
